Workbook
Name a: Incadrare!#REF!
Name a: Lucru!#REF!
Name a: PAAP!#REF!
Name a: Proceduri!#REF!
Name a: 'Sheet1 (2)'!#REF!
Name a: 'Sheet1 (3)'!#REF!
Name a: PAAP_Adr!#REF!

Sheet PAAP
A2: P R O G R A M A N U A L A L A C H I Z I T I I L O R P U B L I C E 2019 ( ˃5000 euro)
A4: Nr. crt. | B4: Tipul si obiectul contractului de achiziti publica / acordului-cadru | C4: Cod CPV | D4: Valoarea estimata a contractului de achizitie publica / acordului-cadru | E4: Sursa de finantare | F4: Procedura stabilita/ instrumente specifice pentru derularea procesului de achizitie | G4: Data (luna) estimata pentru initierea procedurii | H4: Data (luna) estimata pentru atribuirea contractului de achizitie publica/ acordului-cadru | I4: Modalitatea de derulare a procedurii de atribuire | J4: Persoana responsabilă cu aplicarea procedurii de atribuire
D5: Lei, fara TVA | I5: online/offline
A6: A. FURNIZARI PRODUSE :
A7: 1 | B7: Achizitia de carburant pentru BVC nenominalizate (benzina si motorina) | C7: 22458000-5 - Imprimate la comanda (Rev.2) | D7: 128659.23 | E7: Buget local | F7: achizitie directa | G7: ianuarie,2019 | H7: ianuarie,2019 | I7: online | J7: Ionescu Eromanga Camelia
A8: 2 | B8: Tocator crengi Caravaggi Bio235 | C8: 34390000-7 - Accesorii pentru tractoare (Rev.2) | D8: 31900 | E8: Buget local | F8: achizitie directa | G8: martie,2019 | H8: martie,2019 | I8: online | J8: Stoica Gheorghe
A9: 3 | B9: ACHIZITIE AUTOSPECIALA DE INTERVENTII LA INCENDII PENTRU SERVICIUL VOLUNTAR PENTRU SITUATII DE URGENTA AL ORASULUI BUHUSI, JUD. BACAU | C9: 34144210-3 Vehicule de pompieri (Rev.2) | D9: 1100000 | E9: 90% Consiliul Judetean Bacau; 10% buget local | F9: Cereri de oferta/Procedura simplificata | G9: mai, 2019 | H9: iunie, 2019 | I9: online | J9: Stoica Gheorghe
A10: 4 | B10: Achizitionarea echipamentelor pentru proiectul „Reabilitare, modernizare si dotare scoala gimnaziala nr.2 din Orasul Buhusi, judetul Bacau” –PNDL II | C10: 39160000-1 Mobilier scolar (Rev.2) 39180000-7 Mobilier de laborator (Rev.2) 33192000-2 Mobilier medical (Rev.2) 39151300-8 Mobilier modular (Rev.2) | D10: 257244 | E10: Buget Local + Contributie nationala | F10: Cereri de oferta/Procedura simplificata | G10: august, 2019 | H10: decembrie, 2019 | I10: online | J10: Ionescu Eromanga Camelia
A11: 5 | B11: ACHIZITIONARE DOTARI PENTRU PROIECTUL “DOTARE CU ECHIPAMENTE A CASEI DE CULTURA BUHUSI, JUD.BACAU | C11: 32321300-2 - Materiale audiovizuale (Rev.2) | D11: 85571.08 | E11: Buget local | F11: achizitie directa | G11: septembrie,2019 | H11: septembrie,2019 | I11: online | J11: Ionescu Eromanga Camelia
A12: 6 | B12: Pachet cablu electric+accesorii | C12: 31330000-8 - Cablu coaxial (Rev.2) | D12: 40994.74 | E12: Buget local | F12: achizitie directa | G12: septembrie,2019 | H12: septembrie,2019 | I12: online | J12: Stoica Gheorghe
A13: 7 | B13: Pachet informatic APLxPERT format din modulele CO, SA, MF, BK | C13: 72600000-6 - Servicii de asistenta si de consultanta informatica (Rev.2) | D13: 24310 | E13: Buget local | F13: achizitie directa | G13: noiembrie,2019 | H13: noiembrie,2019 | I13: online | J13: Stoica Gheorghe
A14: 8 | B14: Banca parc stradala | C14: 34928400-2 - Mobilier urban (Rev.2) | D14: 23340 | E14: Buget local | F14: achizitie directa | G14: decembrie,2019 | H14: decembrie,2019 | I14: online | J14: Stoica Gheorghe
A15: B. PRESTARE SERVICII :
A16: 1 | B16: Intretinere drumuri nemodernizate | C16: 45233141-9 - Lucrari de intretinere a drumurilor (Rev.2) | D16: 101721.74 | E16: Buget local | F16: achizitie directa | G16: mai,2019 | H16: mai,2019 | I16: online | J16: Stoica Gheorghe
A17: 2 | B17: Serv.de actualizare DALI -"MODERNIZAREA STRAZILOR DE INTERES LOCAL DIN ORASUL BUHUSI" | C17: 79314000-8 - Studiu de fezabilitate (Rev.2) | D17: 132000 | E17: Buget local | F17: achizitie directa | G17: mai,2019 | H17: mai,2019 | I17: online | J17: Ionescu Eromanga Camelia
A18: 3 | B18: SERVICII DE CONSULTANTA IN DOMENIUL MANAGEMENTULUI | C18: 79411000-8 - Servicii generale de consultanta in management (Rev.2) | D18: 55000 | E18: Buget local | F18: achizitie directa | G18: iunie,2019 | H18: iunie,2019 | I18: online | J18: Ionescu Eromanga Camelia
A19: 4 | B19: SERVICII DE AUDIT FINANCIAR | C19: 79212100-4 - Servicii de auditare financiara (Rev.2) | D19: 30000 | E19: Buget local | F19: achizitie directa | G19: iunie,2019 | H19: iunie,2019 | I19: online | J19: Ionescu Eromanga Camelia
A20: 5 | B20: SERVICII DE CONSULTANTA IN DOMENIUL MANAGEMENTULUI PROIECTULUI | C20: 79411000-8 - Servicii generale de consultanta in management (Rev.2) | D20: 65000 | E20: Buget local | F20: achizitie directa | G20: iulie,2019 | H20: iulie,2019 | I20: online | J20: Ionescu Eromanga Camelia
A21: 6 | B21: SERVICII DE AUDIT FINANCIAR | C21: 79212100-4 - Servicii de auditare financiara (Rev.2) | D21: 30000 | E21: Buget local | F21: achizitie directa | G21: iulie,2019 | H21: iulie,2019 | I21: online | J21: Ionescu Eromanga Camelia
A22: 7 | B22: Servicii de intretinere a drumurilor aflate in administrarea UAT Orasul Buhusi, iarna 2019-2020 | C22: 90620000-9 Servicii de deszapezire (Rev.2) | D22: 524373.78 | E22: Buget local | F22: Cereri de oferta/Procedura simplificata | G22: septembrie,2019 | H22: octombrie,2019 | I22: online | J22: Stoica Gheorghe
A23: 8 | B23: Servicii de supraveghere a lucrărilor prin diriginți de șantier | C23: 71520000-9 - Servicii de supraveghere a lucrarilor (Rev.2) | D23: 57440 | E23: Buget local | F23: achizitie directa | G23: septembrie,2019 | H23: octombrie,2019 | I23: online | J23: Ionescu Eromanga Camelia
A24: 9 | B24: Servicii de inchiriere Iluminat festiv (montat/demontat) | C24: 39298500-2 - Ornamente (Rev.2) | D24: 84030 | E24: Buget local | F24: achizitie directa | G24: septembrie,2019 | H24: octombrie,2019 | I24: online | J24: Stoica Gheorghe
A25: C. LUCRARI :
A26: 1 | B26: LUCRARI DE MARCAJE RUTIERE, ORAS BUHUSI, JUDETUL BACAU (2019) | C26: 45233221-4 - Lucrari de marcaj rutier (Rev.2) | D26: 27637.62 | E26: Buget local | F26: achizitie directa | G26: ianuarie,2019 | H26: ianuarie,2019 | I26: online | J26: Stoica Gheorghe
A27: 2 | B27: Verificare tehnica prin verificatori tehnici atestati, cerinta A1 si E pentru proiectul tehnic “Reabilitarea termică a clădirilor publice din Orașul Buhuși - Colegiul Tehnic Ion Borcea și Școala Mihai Eminescu”cod SMIS 118519 | C27: 71328000-3 Servicii de verificare a proiectelor de structuri portante (Rev.2) | D27: 11318 | E27: POR 2014-2020, axa 3.1.B +buget local | F27: achizitie directa | G27: ianuarie, 2019 | H27: februarie, 2019 | I27: online | J27: Ionescu Eromanga Camelia
A28: 3 | B28: REABILITARE SI MODERNIZARE STRADA VOIOAGA SI STRADA MIRCEA VOIEVOD, ORAS BUHUSI, JUDETUL BACAU | C28: 45233120-6 - Lucrari de constructii de drumuri (Rev.2) 45233161-5 - Lucrari de constructii de trotuare (Rev.2) 45332000-3 -Lucrari de instalatii de apa si canalizare si de conducte de evacuare (Rev.2) 45233221-4 - Lucrari de marcaj rutier (Rev.2) | D28: 4271020.9 | E28: finantare rambursabila interna si bugetul local | F28: Cereri de oferta/Procedura simplificata | G28: martie,2019 | H28: mai,2019 | I28: online | J28: Ionescu Eromanga Camelia
A29: 4 | B29: Lucrari de executie pentru proiectul “Reabilitarea termică a clădirilor publice din Orașul Buhuși - Colegiul Tehnic Ion Borcea și Școala Mihai Eminescu”cod SMIS 118519 | C29: 45214200-2 - Lucrari de constructii de institutii scolare (Rev.2) | D29: 6,909,323.65 * | E29: POR 2014-2020, axa 3.1.B +buget local | F29: Cereri de oferta/Procedura simplificata | G29: mai,2019 | H29: iunie,2019 | I29: online | J29: Ionescu Eromanga Camelia
A30: 5 | B30: LUCRARI DE REPARATII NECESARE AMENAJARII TARGULUI SAPTAMANAL | C30: 45213140-6 - Lucrari de constructii de piete (Rev.2) | D30: 232233.43 | E30: Buget local | F30: achizitie directa | G30: iunie,2019 | H30: iunie,2019 | I30: online | J30: Stoica Gheorghe
A31: 6 | B31: LUCRARI DE INTRETINERE CURENTA CU MIXTURA ASFALTICA A STRAZILOR DIN ORASUL BUHUSI, JUD. BACAU | C31: 45233141-9 - Lucrari de intretinere a drumurilor (Rev.2) | D31: 187387.31 | E31: Buget local | F31: achizitie directa | G31: august,2019 | H31: august,2019 | I31: online | J31: Ionescu Eromanga Camelia
A32: 7 | B32: Extindere retele distributie gaze naturale PE 63 si PE 90 | C32: 45231221-0 - Lucrari de constructii de conducte de alimentare cu gaz (Rev.2) | D32: 59725.65 | E32: Buget local | F32: achizitie directa | G32: august,2019 | H32: august,2019 | I32: online | J32: Stoica Gheorghe
A33: 8 | B33: REABILITAREA STRAZII VASILE ALECSANDRI, ORAS BUHUSI, JUDETUL BACAU | C33: 45233120-6 - Lucrari de constructii de drumuri (Rev.2) 45233161-5 - Lucrari de constructii de trotuare (Rev.2) 44162500-8 - Conducte de apa potabila (Rev.2) 45233221-4 - Lucrari de marcaj rutier (Rev.2) | D33: 556866.71 | E33: finantare rambursabila interna si bugetul local | F33: Cereri de oferta/Procedura simplificata | G33: octombrie,2019 | H33: noiembrie,2019 | I33: online | J33: Ionescu Eromanga Camelia
A34: 9 | B34: Construire retele de apa pentru trama stradala, oras Buhusi, judetul Bacau – strada Bucegi, strada Dragos Voda si strada Florilor | C34: 45330000-9 Lucrari de instalatii de apa (Rev.2) 39370000-6 Instalatii de distribuire a apei (Rev.2) 39715300-0 Echipament pentru instalatii de apa si canalizare (Rev.2) | D34: 805958.77 | E34: finantare rambursabila interna si bugetul local | F34: Cereri de oferta/Procedura simplificata | G34: decembrie,2019 | H34: februarie, 2020 | I34: online | J34: Ionescu Eromanga Camelia
B35: *Actualizare in baza OUG 114/2018

Sheet PAAP_Adr
B1: Oraşul Buhuşi | G1: APROBAT,
B2: Nr. 704 din 16.01.2012 | G2: PRIMARUL ORAŞULUI BUHUŞI,
G3: Ionel Turcea
A4: PROGRAMUL ANUAL AL ACHIZIŢIILOR PUBLICE
A5: Anul 2012
A6: Nr. crt. | B6: Obiectul contractului/ Acordului-cadru | C6: Tip contract | D6: Valoarea estimată fără TVA | F6: Mod achiziţionare | G6: Cod CPV | H6: Data estimată - începere procedură | I6: Data estimată - finalizare procedură
D7: lei | E7: euro
A8: =SUM(A6,1) -> 1 | B8: Colectare şi transport deşeuri medicale periculoase infecţioase-înţepătoare | C8: Servicii | D8: 2000 | E8: 4.3322 | F8: Achiziţie Directă | G8: 90524400-0 Servicii de colectare, de transport si de eliminare a deseurilor spitalicesti | H8: 40924 | I8: 40924
D9: =PRODUCT(D8,1/E8) -> 461.66 | E9: 40921
A10: =SUM(A8,1) -> 2 | B10: Bonuri valorice pentru carburanţi auto | C10: Produse | D10: 72581 | E10: 4.3322 | F10: Cerere de Oferte | G10: 09130000-9 Petrol si produse distilate | H10: 40952 | I10: 40962
D11: =PRODUCT(D10,1/E10) -> 16753.84 | E11: 40921
A12: =SUM(A10,1) -> 3 | B12: Asistenţă Tehnică din partea diriginţilor de şantier | C12: Servicii | D12: 173105 | E12: 4.3322 | F12: Cerere de Oferte | G12: 71520000-9 - Servicii de supraveghere a lucrarilor | H12: 40952 | I12: 40962
D13: =PRODUCT(D12,1/E12) -> 39957.76 | E13: 40921
A14: =SUM(A12,1) -> 4 | B14: Asistenţă Tehnică din partea proiectantului | C14: Servicii | D14: 102500 | E14: 4.3322 | F14: Cerere de Oferte | G14: 71356200-0 Servicii de asistenta tehnica | H14: 40952 | I14: 40962
D15: =PRODUCT(D14,1/E14) -> 23660.03 | E15: 40921
A16: =SUM(A14,1) -> 5 | B16: Audit Financiar | C16: Servicii | D16: 186200 | E16: 4.3322 | F16: Cerere de Oferte | G16: 79212100-4 Servicii de auditare financiara | H16: 40952 | I16: 40962
D17: =PRODUCT(D16,1/E16) -> 42980.47 | E17: 40921
A18: =SUM(A16,1) -> 6 | B18: Consultanţă şi expertiză | C18: Servicii | D18: 174700 | E18: 4.3322 | F18: Cerere de Oferte | G18: 79411000-8 Servicii generale de consultanta în management | H18: 40952 | I18: 40962
D19: =PRODUCT(D18,1/E18) -> 40325.93 | E19: 40921
A20: =SUM(A18,1) -> 7 | B20: Dotări pentru Proiectul "Dezvoltarea şi modernizarea infrastructurii utilitaţilor publice urbane şi a spaţiilor verzi din cartierul de vest al oraşului Buhuşi" COD SMIS 12385 | C20: Servicii | D20: 297895 | E20: 4.3322 | F20: Licitaţie Deschisă | G20: 34928400-2 Mobilier urban | H20: 40959 | I20: 41018
D21: =PRODUCT(D20,1/E20) -> 68762.98 | E21: 40921
A22: =SUM(A20,1) -> 8 | B22: Dotări pentru Proiectul "Reabilitarea, modernizarea infrastructurii sociale din cartierul de vest al oraşului Buhuşi" COD SMIS 12386 | C22: Servicii | D22: 72881 | E22: 4.3322 | F22: Licitaţie Deschisă | G22: 33100000-1 Echipamente medicale | H22: 40959 | I22: 41018
D23: =PRODUCT(D22,1/E22) -> 16823.09 | E23: 40921
A24: =SUM(A22,1) -> 9 | B24: Execuţia Lucrării pentru "Proiectul Reabilitarea, modernizarea infrastructurii sociale din cartierul de vest al oraşului Buhuşi" COD SMIS 12386 | C24: Servicii | D24: 791390.5 | E24: 4.3322 | F24: Licitaţie Deschisă | G24: 45000000-7 Lucrari de constructii | H24: 40959 | I24: 41018
D25: =PRODUCT(D24,1/E24) -> 182676.35 | E25: 40921
A26: =SUM(A24,1) -> 10 | B26: Execuţia Lucrării pentru Proiectul "Dezvoltarea şi modernizarea infrastructurii utilitaţilor publice urbane şi a spaţiilor verzi din cartierul de vest al oraşului Buhuşi" COD SMIS 12385 | C26: Servicii | D26: 1403643.5 | E26: 4.3322 | F26: Licitaţie Deschisă | G26: 45000000-7 Lucrari de constructii | H26: 40959 | I26: 41018
D27: =PRODUCT(D26,1/E26) -> 324002.47 | E27: 40921
A28: =SUM(A26,1) -> 11 | B28: Execuţia Lucrării pentru Proiectul "Implementarea unui sistem de supraveghere şi monitorizare video pentru creşterea siguranţei populaţiei în cartierul de vest al oraşului Buhuşi" COD | C28: Servicii | D28: 837423 | E28: 4.3322 | F28: Licitaţie Deschisă | G28: 32323500-8 Sistem video de supraveghere | H28: 40959 | I28: 41018
D29: =PRODUCT(D28,1/E28) -> 193302.02 | E29: 40921
A30: =SUM(A28,1) -> 12 | B30: Execuţia Lucrării pentru Proiectul "Modernizarea spaţiilor publice urbane din cartierul de vest al orasului Buhuşi" COD SMIS 12384 | C30: Servicii | D30: 9361474.5 | E30: 4.3322 | F30: Licitaţie Deschisă | G30: 45000000-7 Lucrari de constructii | H30: 40959 | I30: 41018
D31: =PRODUCT(D30,1/E30) -> 2160905.4 | E31: 40921
A32: =SUM(A30,1) -> 13 | B32: Prevenirea şi combaterea înzăpezirii străzilor din oraşul Buhuşi | C32: Servicii | D32: 4.585 - 355.502 | E32: 4.3322 | F32: Cerere de Oferte | G32: 90620000-9 Servicii de deszapezire | H32: 41165 | I32: 41208
D33: 1.054 - 81.715 | E33: 40921
B34: Compartimentul financiar-contabil, | G34: Responsabil achizitii publice
B35: Maria Popu | G35: Daniel Oprea

Sheet Proceduri
A1: 2 | B1: Asistenţă Tehnică din partea diriginţilor de şantier pentru Proiectul "Dezvoltarea şi modernizarea infrastructurii utilitaţilor publice urbane şi a spaţiilor verzi din cartierul de vest al oraşului Buhuşi" COD SMIS 12385 | C1: Servicii | D1: 22171 | E1: =PRODUCT(D1,1/4.3433) -> 5104.64 | F1: =IF(E1<15000,"direct") -> direct
A2: 1 | B2: Asistenţă Tehnică din partea diriginţilor de şantier pentru Proiectul "Modernizarea spaţiilor publice urbane din cartierul de vest al orasului Buhuşi" COD SMIS 12384 | C2: Servicii | D2: 118957 | E2: =PRODUCT(D2,1/4.3433) -> 27388.62 | F2: =IF(E2<15000,"direct") -> FALSE
A3: 3 | B3: Asistenţă Tehnică din partea diriginţilor de şantier pentru Proiectul "Reabilitarea, modernizarea infrastructurii sociale din cartierul de vest al oraşului Buhuşi" COD SMIS 12386 | C3: Servicii | D3: 15349 | E3: =PRODUCT(D3,1/4.3433) -> 3533.95 | F3: =IF(E3<15000,"direct") -> direct
A4: 4 | B4: Asistenţă Tehnică din partea diriginţilor de şantier Proiectul "Implementarea unui sistem de supraveghere şi monitorizare video pentru creşterea siguranţei populaţiei în cartierul de vest al oraşului Buhuşi" COD SMIS 12387 | C4: Servicii | D4: 16628 | E4: =PRODUCT(D4,1/4.3433) -> 3828.43 | F4: =IF(E4<15000,"direct") -> direct
D5: =SUM(D1:D4) -> 173105 | E5: =PRODUCT(D5,1/4.3433) -> 39855.64 | F5: =IF(E5<15000,"direct") -> FALSE
A6: 2 | B6: Asistenţă Tehnică din partea proiectantului pentru Proiectul "Dezvoltarea şi modernizarea infrastructurii utilitaţilor publice urbane şi a spaţiilor verzi din cartierul de vest al oraşului Buhuşi" COD SMIS 12385 | C6: Servicii | D6: 17055 | E6: =PRODUCT(D6,1/4.3433) -> 3926.74 | F6: =IF(E6<15000,"direct") -> direct
A7: 4 | B7: Asistenţă Tehnică din partea proiectantului pentru Proiectul "Implementarea unui sistem de supraveghere şi monitorizare video pentru creşterea siguranţei populaţiei în cartierul de vest al oraşului Buhuşi" COD SMIS 12387 | C7: Servicii | D7: 11512 | E7: =PRODUCT(D7,1/4.3433) -> 2650.52 | F7: =IF(E7<15000,"direct") -> direct
A8: 1 | B8: Asistenţă Tehnică din partea proiectantului pentru Proiectul "Modernizarea spaţiilor publice urbane din cartierul de vest al orasului Buhuşi" COD SMIS 12384 | C8: Servicii | D8: 63700 | E8: =PRODUCT(D8,1/4.3433) -> 14666.27 | F8: =IF(E8<15000,"direct") -> direct
A9: 3 | B9: Asistenţă Tehnică din partea proiectantului pentru Proiectul "Reabilitarea, modernizarea infrastructurii sociale din cartierul de vest al oraşului Buhuşi" COD SMIS 12386 | C9: Servicii | D9: 10233 | E9: =PRODUCT(D9,1/4.3433) -> 2356.04 | F9: =IF(E9<15000,"direct") -> direct
D10: =SUM(D6:D9) -> 102500 | E10: =PRODUCT(D10,1/4.3433) -> 23599.57 | F10: =IF(E10<15000,"direct") -> FALSE
A11: 2 | B11: Audit Financiar pentru Proiectul "Dezvoltarea şi modernizarea infrastructurii utilitaţilor publice urbane şi a spaţiilor verzi din cartierul de vest al oraşului Buhuşi" COD SMIS 12385 | C11: Servicii | D11: 40000 | E11: =PRODUCT(D11,1/4.3433) -> 9209.59 | F11: =IF(E11<15000,"direct") -> direct
A12: 4 | B12: Audit Financiar pentru Proiectul "Implementarea unui sistem de supraveghere şi monitorizare video pentru creşterea siguranţei populaţiei în cartierul de vest al oraşului Buhuşi" COD SMIS 12387 | C12: Servicii | D12: 30000 | E12: =PRODUCT(D12,1/4.3433) -> 6907.19 | F12: =IF(E12<15000,"direct") -> direct
A13: 1 | B13: Audit Financiar pentru Proiectul "Modernizarea spaţiilor publice urbane din cartierul de vest al orasului Buhuşi" COD SMIS 12384 | C13: Servicii | D13: 86200 | E13: =PRODUCT(D13,1/4.3433) -> 19846.66 | F13: =IF(E13<15000,"direct") -> FALSE
A14: 3 | B14: Audit Financiar pentru Proiectul "Reabilitarea, modernizarea infrastructurii sociale din cartierul de vest al oraşului Buhuşi" COD SMIS 12386 | C14: Servicii | D14: 30000 | E14: =PRODUCT(D14,1/4.3433) -> 6907.19 | F14: =IF(E14<15000,"direct") -> direct
D15: =SUM(D11:D14) -> 186200 | E15: =PRODUCT(D15,1/4.3433) -> 42870.63 | F15: =IF(E15<15000,"direct") -> FALSE
A16: 4 | B16: Consultanţă şi expertiză pentru Proiectul "Implementarea unui sistem de supraveghere şi monitorizare video pentru creşterea siguranţei populaţiei în cartierul de vest al oraşului Buhuşi" COD SMIS 12387 | C16: Servicii | D16: 13070 | E16: =PRODUCT(D16,1/4.3433) -> 3009.23 | F16: =IF(E16<15000,"direct") -> direct
A17: 1 | B17: Consultanţă şi Expertiză pentru Proiectul "Modernizarea spaţiilor publice urbane din cartierul de vest al orasului Buhuşi" COD SMIS 12384 | C17: Servicii | D17: 161630 | E17: =PRODUCT(D17,1/4.3433) -> 37213.64 | F17: =IF(E17<15000,"direct") -> FALSE
D18: =SUM(D16:D17) -> 174700 | E18: =PRODUCT(D18,1/4.3433) -> 40222.87 | F18: =IF(E18<15000,"direct") -> FALSE
A19: 2 | B19: Dotări pentru Proiectul "Dezvoltarea şi modernizarea infrastructurii utilitaţilor publice urbane şi a spaţiilor verzi din cartierul de vest al oraşului Buhuşi" COD SMIS 12385 | C19: Produse | D19: 297895 | E19: =PRODUCT(D19,1/4.3433) -> 68587.25 | F19: =IF(E19<15000,"direct") -> FALSE
A20: 3 | B20: Dotări pentru Proiectul "Reabilitarea, modernizarea infrastructurii sociale din cartierul de vest al oraşului Buhuşi" COD SMIS 12386 | C20: Produse | D20: 72881 | E20: =PRODUCT(D20,1/4.3433) -> 16780.1 | F20: =IF(E20<15000,"direct") -> FALSE
A21: 3 | B21: Execuţia Lucrării pentru "Proiectul Reabilitarea, modernizarea infrastructurii sociale din cartierul de vest al oraşului Buhuşi" COD SMIS 12386 | C21: Lucrări | D21: 791390.5 | E21: =PRODUCT(D21,1/4.3433) -> 182209.5 | F21: =IF(E21<15000,"direct") -> FALSE
A22: 2 | B22: Execuţia Lucrării pentru Proiectul "Dezvoltarea şi modernizarea infrastructurii utilitaţilor publice urbane şi a spaţiilor verzi din cartierul de vest al oraşului Buhuşi" COD SMIS 12385 | C22: Lucrări | D22: 1403643.5 | E22: =PRODUCT(D22,1/4.3433) -> 323174.43 | F22: =IF(E22<15000,"direct") -> FALSE
A23: 4 | B23: Execuţia Lucrării pentru Proiectul "Implementarea unui sistem de supraveghere şi monitorizare video pentru creşterea siguranţei populaţiei în cartierul de vest al oraşului Buhuşi" COD SMIS 12387 | C23: Lucrări | D23: 837423 | E23: =PRODUCT(D23,1/4.3433) -> 192808 | F23: =IF(E23<15000,"direct") -> FALSE
A24: 1 | B24: Execuţia Lucrării pentru Proiectul "Modernizarea spaţiilor publice urbane din cartierul de vest al orasului Buhuşi" COD SMIS 12384 | C24: Lucrări | D24: 9361474.5 | E24: =PRODUCT(D24,1/4.3433) -> 2155382.9 | F24: =IF(E24<15000,"direct") -> FALSE
A25: 4 | B25: Promovare şi publicitate pentru Proiectul "Implementarea unui sistem de supraveghere şi monitorizare video pentru creşterea siguranţei populaţiei în cartierul de vest al oraşului Buhuşi" COD SMIS 12387 | C25: Servicii | D25: 77400 | E25: =PRODUCT(D25,1/4.3433) -> 17820.55 | F25: =IF(E25<15000,"direct") -> FALSE
A26: 3 | B26: Promovare şi Publicitate Proiect "Reabilitarea, modernizarea infrastructurii sociale din cartierul de vest al oraşului Buhuşi" COD SMIS 12386 | C26: Servicii | D26: 77400 | E26: =PRODUCT(D26,1/4.3433) -> 17820.55 | F26: =IF(E26<15000,"direct") -> FALSE
A27: 1 | B27: Servicii de Promovare pentru Proiectul "Modernizarea spaţiilor publice urbane din cartierul de vest al orasului Buhuşi" COD SMIS 12384 | C27: Servicii | D27: 49240 | E27: =PRODUCT(D27,1/4.3433) -> 11337 | F27: =IF(E27<15000,"direct") -> direct
A28: 2 | B28: Servicii de promovare şi publicitate Proiectul "Dezvoltarea şi modernizarea infrastructurii utilitaţilor publice urbane şi a spaţiilor verzi din cartierul de vest al oraşului Buhuşi" COD SMIS12385" | C28: Servicii | D28: 77400 | E28: =PRODUCT(D28,1/4.3433) -> 17820.55 | F28: =IF(E28<15000,"direct") -> FALSE
D29: =SUM(D25:D28) -> 281440 | E29: =PRODUCT(D29,1/4.3433) -> 64798.66 | F29: =IF(E29<15000,"direct") -> FALSE

Sheet Incadrare
E1: cpv | F1: Lei | G1: Euro | I1: Produse | J1: Servicii | K1: Lucrări
A2: 1 | B2: 2 | C2: Asistenţă Tehnică pentru Proiectul "Dezvoltarea şi modernizarea infrastructurii utilitaţilor publice urbane şi a spaţiilor verzi din cartierul de vest al oraşului Buhuşi" COD SMIS 12385 | D2: =IF(AND(I2>J2,I2>K2),"Produse",IF(AND(J2>I2,J2>K2),"Servicii",IF(AND(K2>I2,K2>J2),"Lucrări"))) -> Servicii | E2: 71356200-0 Servicii de asistenta tehnica | F2: 39226 | G2: =PRODUCT(F2,1/4.3433) -> 9031.38 | H2: =IF(OR(D2="Servicii",D2="Produse"),IF(G2<15000,"Achiziţie Directă",IF(AND(G2>15000,G2<125000),"Cerere de Oferte")),IF(AND(G2>15000,G2<4845000),"Cerere de Oferte","Licitaţie Deschisă")) -> Achiziţie Directă | I2: 0 | J2: =SUM(G2) -> 9031.38 | K2: 0 | L2: Cerere de Oferte
A3: =SUM(A2,1) -> 2 | B3: 4 | C3: Asistenţă Tehnică pentru Proiectul "Implementarea unui sistem de supraveghere şi monitorizare video pentru creşterea siguranţei populaţiei în cartierul de vest al oraşului Buhuşi" COD SMIS 12387 | D3: =IF(AND(I3>J3,I3>K3),"Produse",IF(AND(J3>I3,J3>K3),"Servicii",IF(AND(K3>I3,K3>J3),"Lucrări"))) -> Servicii | E3: 71356200-0 Servicii de asistenta tehnica | F3: 17310 | G3: =PRODUCT(F3,1/4.3433) -> 3985.45 | H3: =IF(OR(D3="Servicii",D3="Produse"),IF(G3<15000,"Achiziţie Directă",IF(AND(G3>15000,G3<125000),"Cerere de Oferte")),IF(AND(G3>15000,G3<4845000),"Cerere de Oferte","Licitaţie Deschisă")) -> Achiziţie Directă | I3: 0 | J3: =SUM(G3) -> 3985.45 | K3: 0 | L3: Cerere de Oferte
A4: =SUM(A3,1) -> 3 | B4: 3 | C4: Asistenţă Tehnică pentru Proiectul "Reabilitarea, modernizarea infrastructurii sociale din cartierul de vest al oraşului Buhuşi" COD SMIS 12386 | D4: =IF(AND(I4>J4,I4>K4),"Produse",IF(AND(J4>I4,J4>K4),"Servicii",IF(AND(K4>I4,K4>J4),"Lucrări"))) -> Servicii | E4: 71356200-0 Servicii de asistenta tehnica | F4: 25582 | G4: =PRODUCT(F4,1/4.3433) -> 5889.99 | H4: =IF(OR(D4="Servicii",D4="Produse"),IF(G4<15000,"Achiziţie Directă",IF(AND(G4>15000,G4<125000),"Cerere de Oferte")),IF(AND(G4>15000,G4<4845000),"Cerere de Oferte","Licitaţie Deschisă")) -> Achiziţie Directă | I4: 0 | J4: =SUM(G4) -> 5889.99 | K4: 0 | L4: Cerere de Oferte
A5: =SUM(A4,1) -> 4 | B5: 2 | C5: Audit Financiar pentru Proiectul "Dezvoltarea şi modernizarea infrastructurii utilitaţilor publice urbane şi a spaţiilor verzi din cartierul de vest al oraşului Buhuşi" COD SMIS 12385 | D5: =IF(AND(I5>J5,I5>K5),"Produse",IF(AND(J5>I5,J5>K5),"Servicii",IF(AND(K5>I5,K5>J5),"Lucrări"))) -> Servicii | E5: 79212100-4 Servicii de auditare financiara | F5: 40000 | G5: =PRODUCT(F5,1/4.3433) -> 9209.59 | H5: =IF(OR(D5="Servicii",D5="Produse"),IF(G5<15000,"Achiziţie Directă",IF(AND(G5>15000,G5<125000),"Cerere de Oferte")),IF(AND(G5>15000,G5<4845000),"Cerere de Oferte","Licitaţie Deschisă")) -> Achiziţie Directă | I5: 0 | J5: =SUM(G5) -> 9209.59 | K5: 0 | L5: Cerere de Oferte
A6: =SUM(A5,1) -> 5 | B6: 4 | C6: Audit Financiar pentru Proiectul "Implementarea unui sistem de supraveghere şi monitorizare video pentru creşterea siguranţei populaţiei în cartierul de vest al oraşului Buhuşi" COD SMIS 12387 | D6: =IF(AND(I6>J6,I6>K6),"Produse",IF(AND(J6>I6,J6>K6),"Servicii",IF(AND(K6>I6,K6>J6),"Lucrări"))) -> Servicii | E6: 79212100-4 Servicii de auditare financiara | F6: 30000 | G6: =PRODUCT(F6,1/4.3433) -> 6907.19 | H6: =IF(OR(D6="Servicii",D6="Produse"),IF(G6<15000,"Achiziţie Directă",IF(AND(G6>15000,G6<125000),"Cerere de Oferte")),IF(AND(G6>15000,G6<4845000),"Cerere de Oferte","Licitaţie Deschisă")) -> Achiziţie Directă | I6: 0 | J6: =SUM(G6) -> 6907.19 | K6: 0 | L6: Cerere de Oferte
A7: =SUM(A6,1) -> 6 | B7: 3 | C7: Audit Financiar pentru Proiectul "Reabilitarea, modernizarea infrastructurii sociale din cartierul de vest al oraşului Buhuşi" COD SMIS 12386 | D7: =IF(AND(I7>J7,I7>K7),"Produse",IF(AND(J7>I7,J7>K7),"Servicii",IF(AND(K7>I7,K7>J7),"Lucrări"))) -> Servicii | E7: 79212100-4 Servicii de auditare financiara | F7: 30000 | G7: =PRODUCT(F7,1/4.3433) -> 6907.19 | H7: =IF(OR(D7="Servicii",D7="Produse"),IF(G7<15000,"Achiziţie Directă",IF(AND(G7>15000,G7<125000),"Cerere de Oferte")),IF(AND(G7>15000,G7<4845000),"Cerere de Oferte","Licitaţie Deschisă")) -> Achiziţie Directă | I7: 0 | J7: =SUM(G7) -> 6907.19 | K7: 0 | L7: Cerere de Oferte
A8: =SUM(A7,1) -> 7 | B8: 4 | C8: Consultanţă pentru Managementul de Proiect aferent Proiectului "Implementarea unui sistem de supraveghere şi monitorizare video pentru creşterea siguranţei populaţiei în cartierul de vest al oraşului Buhuşi" COD SMIS 12387 | D8: =IF(AND(I8>J8,I8>K8),"Produse",IF(AND(J8>I8,J8>K8),"Servicii",IF(AND(K8>I8,K8>J8),"Lucrări"))) -> Servicii | E8: 79411000-8 Servicii generale de consultanta în management | F8: 13070 | G8: =PRODUCT(F8,1/4.3433) -> 3009.23 | H8: =IF(OR(D8="Servicii",D8="Produse"),IF(G8<15000,"Achiziţie Directă",IF(AND(G8>15000,G8<125000),"Cerere de Oferte")),IF(AND(G8>15000,G8<4845000),"Cerere de Oferte","Licitaţie Deschisă")) -> Achiziţie Directă | I8: 0 | J8: =SUM(G8) -> 3009.23 | K8: 0 | L8: Cerere de Oferte
A9: =SUM(A8,1) -> 8 | B9: 1 | C9: Promovare pentru Proiectul "Modernizarea spaţiilor publice urbane din cartierul de vest al orasului Buhuşi" COD SMIS 12384 | D9: =IF(AND(I9>J9,I9>K9),"Produse",IF(AND(J9>I9,J9>K9),"Servicii",IF(AND(K9>I9,K9>J9),"Lucrări"))) -> Produse | E9: 31523200-0 Panouri cu mesaje permanente | F9: 49240 | G9: =PRODUCT(F9,1/4.3433) -> 11337 | H9: =IF(OR(D9="Servicii",D9="Produse"),IF(G9<15000,"Achiziţie Directă",IF(AND(G9>15000,G9<125000),"Cerere de Oferte")),IF(AND(G9>15000,G9<4845000),"Cerere de Oferte","Licitaţie Deschisă")) -> Achiziţie Directă | I9: 43000 | J9: 6240 | K9: 0 | L9: Cerere de Oferte
A10: =SUM(A9,1) -> 9 | B10: 1 | C10: Asistenţă Tehnică pentru Proiectul "Modernizarea spaţiilor publice urbane din cartierul de vest al orasului Buhuşi" COD SMIS 12384 | D10: =IF(AND(I10>J10,I10>K10),"Produse",IF(AND(J10>I10,J10>K10),"Servicii",IF(AND(K10>I10,K10>J10),"Lucrări"))) -> Servicii | E10: 71356200-0 Servicii de asistenta tehnica | F10: 182657 | G10: =PRODUCT(F10,1/4.3433) -> 42054.89 | H10: =IF(OR(D10="Servicii",D10="Produse"),IF(G10<15000,"Achiziţie Directă",IF(AND(G10>15000,G10<125000),"Cerere de Oferte")),IF(AND(G10>15000,G10<4845000),"Cerere de Oferte","Licitaţie Deschisă")) -> Cerere de Oferte | I10: 0 | J10: =SUM(G10) -> 42054.89 | K10: 0 | L10: Cerere de Oferte
A11: =SUM(A10,1) -> 10 | B11: 1 | C11: Audit Financiar pentru Proiectul "Modernizarea spaţiilor publice urbane din cartierul de vest al orasului Buhuşi" COD SMIS 12384 | D11: =IF(AND(I11>J11,I11>K11),"Produse",IF(AND(J11>I11,J11>K11),"Servicii",IF(AND(K11>I11,K11>J11),"Lucrări"))) -> Servicii | E11: 79212100-4 Servicii de auditare financiara | F11: 86200 | G11: =PRODUCT(F11,1/4.3433) -> 19846.66 | H11: =IF(OR(D11="Servicii",D11="Produse"),IF(G11<15000,"Achiziţie Directă",IF(AND(G11>15000,G11<125000),"Cerere de Oferte")),IF(AND(G11>15000,G11<4845000),"Cerere de Oferte","Licitaţie Deschisă")) -> Cerere de Oferte | I11: 0 | J11: =SUM(G11) -> 19846.66 | K11: 0 | L11: Cerere de Oferte
A12: =SUM(A11,1) -> 11 | B12: 1 | C12: Consultanţă pentru Managementul de Proiect aferent Proiectului "Modernizarea spaţiilor publice urbane din cartierul de vest al orasului Buhuşi" COD SMIS 12384 | D12: =IF(AND(I12>J12,I12>K12),"Produse",IF(AND(J12>I12,J12>K12),"Servicii",IF(AND(K12>I12,K12>J12),"Lucrări"))) -> Servicii | E12: 79411000-8 Servicii generale de consultanta în management | F12: 161630 | G12: =PRODUCT(F12,1/4.3433) -> 37213.64 | H12: =IF(OR(D12="Servicii",D12="Produse"),IF(G12<15000,"Achiziţie Directă",IF(AND(G12>15000,G12<125000),"Cerere de Oferte")),IF(AND(G12>15000,G12<4845000),"Cerere de Oferte","Licitaţie Deschisă")) -> Cerere de Oferte | I12: 0 | J12: =SUM(G12) -> 37213.64 | K12: 0 | L12: Cerere de Oferte
A13: =SUM(A12,1) -> 12 | B13: 2 | C13: Dotări pentru Proiectul "Dezvoltarea şi modernizarea infrastructurii utilitaţilor publice urbane şi a spaţiilor verzi din cartierul de vest al oraşului Buhuşi" COD SMIS 12385 | D13: =IF(AND(I13>J13,I13>K13),"Produse",IF(AND(J13>I13,J13>K13),"Servicii",IF(AND(K13>I13,K13>J13),"Lucrări"))) -> Produse | F13: 297895 | G13: =PRODUCT(F13,1/4.3433) -> 68587.25 | H13: =IF(OR(D13="Servicii",D13="Produse"),IF(G13<15000,"Achiziţie Directă",IF(AND(G13>15000,G13<125000),"Cerere de Oferte")),IF(AND(G13>15000,G13<4845000),"Cerere de Oferte","Licitaţie Deschisă")) -> Cerere de Oferte | I13: =SUM(G13) -> 68587.25 | J13: 0 | K13: 0 | L13: Licitaţie Deschisă
A14: =SUM(A13,1) -> 13 | B14: 3 | C14: Dotări pentru Proiectul "Reabilitarea, modernizarea infrastructurii sociale din cartierul de vest al oraşului Buhuşi" COD SMIS 12386 | D14: =IF(AND(I14>J14,I14>K14),"Produse",IF(AND(J14>I14,J14>K14),"Servicii",IF(AND(K14>I14,K14>J14),"Lucrări"))) -> Produse | F14: 72881 | G14: =PRODUCT(F14,1/4.3433) -> 16780.1 | H14: =IF(OR(D14="Servicii",D14="Produse"),IF(G14<15000,"Achiziţie Directă",IF(AND(G14>15000,G14<125000),"Cerere de Oferte")),IF(AND(G14>15000,G14<4845000),"Cerere de Oferte","Licitaţie Deschisă")) -> Cerere de Oferte | I14: =SUM(G14) -> 16780.1 | J14: 0 | K14: 0 | L14: Licitaţie Deschisă
A15: =SUM(A14,1) -> 14 | B15: 3 | C15: Execuţia Lucrărilor pentru "Proiectul Reabilitarea, modernizarea infrastructurii sociale din cartierul de vest al oraşului Buhuşi" COD SMIS 12386 | D15: =IF(AND(I15>J15,I15>K15),"Produse",IF(AND(J15>I15,J15>K15),"Servicii",IF(AND(K15>I15,K15>J15),"Lucrări"))) -> Lucrări | F15: 791390.5 | G15: =PRODUCT(F15,1/4.3433) -> 182209.5 | H15: =IF(OR(D15="Servicii",D15="Produse"),IF(G15<15000,"Achiziţie Directă",IF(AND(G15>15000,G15<125000),"Cerere de Oferte")),IF(AND(G15>15000,G15<4845000),"Cerere de Oferte","Licitaţie Deschisă")) -> Cerere de Oferte | I15: 0 | J15: 0 | K15: =SUM(G15) -> 182209.5 | L15: Licitaţie Deschisă
A16: =SUM(A15,1) -> 15 | B16: 2 | C16: Execuţia Lucrărilor pentru Proiectul "Dezvoltarea şi modernizarea infrastructurii utilitaţilor publice urbane şi a spaţiilor verzi din cartierul de vest al oraşului Buhuşi" COD SMIS 12385 | D16: =IF(AND(I16>J16,I16>K16),"Produse",IF(AND(J16>I16,J16>K16),"Servicii",IF(AND(K16>I16,K16>J16),"Lucrări"))) -> Lucrări | F16: 1403643.5 | G16: =PRODUCT(F16,1/4.3433) -> 323174.43 | H16: =IF(OR(D16="Servicii",D16="Produse"),IF(G16<15000,"Achiziţie Directă",IF(AND(G16>15000,G16<125000),"Cerere de Oferte")),IF(AND(G16>15000,G16<4845000),"Cerere de Oferte","Licitaţie Deschisă")) -> Cerere de Oferte | I16: 0 | J16: 0 | K16: =SUM(G16) -> 323174.43 | L16: Licitaţie Deschisă
A17: =SUM(A16,1) -> 16 | B17: 4 | C17: Execuţia Lucrărilor pentru Proiectul "Implementarea unui sistem de supraveghere şi monitorizare video pentru creşterea siguranţei populaţiei în cartierul de vest al oraşului Buhuşi" COD SMIS 12387 | D17: =IF(AND(I17>J17,I17>K17),"Produse",IF(AND(J17>I17,J17>K17),"Servicii",IF(AND(K17>I17,K17>J17),"Lucrări"))) -> Lucrări | F17: 837423 | G17: =PRODUCT(F17,1/4.3433) -> 192808 | H17: =IF(OR(D17="Servicii",D17="Produse"),IF(G17<15000,"Achiziţie Directă",IF(AND(G17>15000,G17<125000),"Cerere de Oferte")),IF(AND(G17>15000,G17<4845000),"Cerere de Oferte","Licitaţie Deschisă")) -> Cerere de Oferte | I17: 0 | J17: 0 | K17: =SUM(G17) -> 192808 | L17: Licitaţie Deschisă
A18: =SUM(A17,1) -> 17 | B18: 1 | C18: Execuţia Lucrărilor pentru Proiectul "Modernizarea spaţiilor publice urbane din cartierul de vest al orasului Buhuşi" COD SMIS 12384 | D18: =IF(AND(I18>J18,I18>K18),"Produse",IF(AND(J18>I18,J18>K18),"Servicii",IF(AND(K18>I18,K18>J18),"Lucrări"))) -> Lucrări | F18: 9361474.5 | G18: =PRODUCT(F18,1/4.3433) -> 2155382.9 | H18: =IF(OR(D18="Servicii",D18="Produse"),IF(G18<15000,"Achiziţie Directă",IF(AND(G18>15000,G18<125000),"Cerere de Oferte")),IF(AND(G18>15000,G18<4845000),"Cerere de Oferte","Licitaţie Deschisă")) -> Cerere de Oferte | I18: 0 | J18: 0 | K18: =SUM(G18) -> 2155382.9 | L18: Licitaţie Deschisă | M18: =PRODUCT(F18,100,1/F26) -> 68.47
A19: =SUM(A18,1) -> 18 | B19: 2 | C19: Promovare pentru Proiectul "Dezvoltarea şi modernizarea infrastructurii utilitaţilor publice urbane şi a spaţiilor verzi din cartierul de vest al oraşului Buhuşi" COD SMIS12385" | D19: =IF(AND(I19>J19,I19>K19),"Produse",IF(AND(J19>I19,J19>K19),"Servicii",IF(AND(K19>I19,K19>J19),"Lucrări"))) -> Produse | E19: 31523200-0 Panouri cu mesaje permanente | F19: 77400 | G19: =PRODUCT(F19,1/4.3433) -> 17820.55 | H19: =IF(OR(D19="Servicii",D19="Produse"),IF(G19<15000,"Achiziţie Directă",IF(AND(G19>15000,G19<125000),"Cerere de Oferte")),IF(AND(G19>15000,G19<4845000),"Cerere de Oferte","Licitaţie Deschisă")) -> Cerere de Oferte | I19: 67900 | J19: 9100 | K19: 0 | L19: Cerere de Oferte
A20: =SUM(A19,1) -> 19 | B20: 4 | C20: Promovare pentru Proiectul "Implementarea unui sistem de supraveghere şi monitorizare video pentru creşterea siguranţei populaţiei în cartierul de vest al oraşului Buhuşi" COD SMIS 12387 | D20: =IF(AND(I20>J20,I20>K20),"Produse",IF(AND(J20>I20,J20>K20),"Servicii",IF(AND(K20>I20,K20>J20),"Lucrări"))) -> Produse | E20: 31523200-0 Panouri cu mesaje permanente | F20: 77400 | G20: =PRODUCT(F20,1/4.3433) -> 17820.55 | H20: =IF(OR(D20="Servicii",D20="Produse"),IF(G20<15000,"Achiziţie Directă",IF(AND(G20>15000,G20<125000),"Cerere de Oferte")),IF(AND(G20>15000,G20<4845000),"Cerere de Oferte","Licitaţie Deschisă")) -> Cerere de Oferte | I20: 66300 | J20: 11100 | K20: 0 | L20: Cerere de Oferte
A21: =SUM(A20,1) -> 20 | B21: 3 | C21: Promovare pentru Proiectul "Reabilitarea, modernizarea infrastructurii sociale din cartierul de vest al oraşului Buhuşi" COD SMIS 12386 | D21: =IF(AND(I21>J21,I21>K21),"Produse",IF(AND(J21>I21,J21>K21),"Servicii",IF(AND(K21>I21,K21>J21),"Lucrări"))) -> Produse | E21: 31523200-0 Panouri cu mesaje permanente | F21: 77400 | G21: =PRODUCT(F21,1/4.3433) -> 17820.55 | H21: =IF(OR(D21="Servicii",D21="Produse"),IF(G21<15000,"Achiziţie Directă",IF(AND(G21>15000,G21<125000),"Cerere de Oferte")),IF(AND(G21>15000,G21<4845000),"Cerere de Oferte","Licitaţie Deschisă")) -> Cerere de Oferte | I21: 66300 | J21: 11100 | K21: 0 | L21: Cerere de Oferte
C22: directe | F22: =SUM(F2:F10) -> 427085
C23: Licitatii | F23: =SUM(F13:F18) -> 12764708 | G23: =PRODUCT(F23*100,1/F26) -> 93.37
C24: CO | F24: =SUM(F11:F12,F19:F21) -> 480030
F26: =SUM(F22:F24) -> 13671822

Sheet Sheet1 (2)
B1: Nr. crt. | C1: Obiectul contractului/ Acordului-cadru | D1: Tip contract | E1: Valoarea estimată fără TVA | F1: Mod achiziţionare | G1: Cod CPV | H1: Data estimată - începere procedură | I1: Data estimată - finalizare procedură
A2: 1 | B2: 2 | C2: Asistenţă Tehnică din partea diriginţilor de şantier pentru Proiectul "Dezvoltarea şi modernizarea infrastructurii utilitaţilor publice urbane şi a spaţiilor verzi din cartierul de vest al oraşului Buhuşi" COD SMIS 12385 | D2: Servicii | E2: 22171 | F2: Cerere de Oferte | G2: 71520000-9 - Servicii de supraveghere a lucrarilor | H2: An 3, Luna 03 | I2: An 3, Luna 03
A3: =SUM(A2,1) -> 2 | B3: 1 | C3: Asistenţă Tehnică din partea diriginţilor de şantier pentru Proiectul "Modernizarea spaţiilor publice urbane din cartierul de vest al orasului Buhuşi" COD SMIS 12384 | D3: Servicii | E3: 118957 | F3: Cerere de Oferte | G3: 71520000-9 - Servicii de supraveghere a lucrarilor | H3: An 3, Luna 03 | I3: An 3, Luna 03
A4: =SUM(A3,1) -> 3 | B4: 3 | C4: Asistenţă Tehnică din partea diriginţilor de şantier pentru Proiectul "Reabilitarea, modernizarea infrastructurii sociale din cartierul de vest al oraşului Buhuşi" COD SMIS 12386 | D4: Servicii | E4: 15349 | F4: Cerere de Oferte | G4: 71520000-9 - Servicii de supraveghere a lucrarilor | H4: An 3, Luna 03 | I4: An 3, Luna 03
A5: =SUM(A4,1) -> 4 | B5: 4 | C5: Asistenţă Tehnică din partea diriginţilor de şantier Proiectul "Implementarea unui sistem de supraveghere şi monitorizare video pentru creşterea siguranţei populaţiei în cartierul de vest al oraşului Buhuşi" COD SMIS 12387 | D5: Servicii | E5: 16628 | F5: Cerere de Oferte | G5: 71520000-9 - Servicii de supraveghere a lucrarilor | H5: An 3, Luna 03 | I5: An 3, Luna 03
A6: =SUM(A5,1) -> 5 | B6: 2 | C6: Asistenţă Tehnică din partea proiectantului pentru Proiectul "Dezvoltarea şi modernizarea infrastructurii utilitaţilor publice urbane şi a spaţiilor verzi din cartierul de vest al oraşului Buhuşi" COD SMIS 12385 | D6: Servicii | E6: 17055 | F6: Cerere de Oferte | G6: 71356200-0 Servicii de asistenta tehnica | H6: An 3, Luna 03 | I6: An 3, Luna 03
A7: =SUM(A6,1) -> 6 | B7: 4 | C7: Asistenţă Tehnică din partea proiectantului pentru Proiectul "Implementarea unui sistem de supraveghere şi monitorizare video pentru creşterea siguranţei populaţiei în cartierul de vest al oraşului Buhuşi" COD SMIS 12387 | D7: Servicii | E7: 11512 | F7: Cerere de Oferte | G7: 71356200-0 Servicii de asistenta tehnica | H7: An 3, Luna 03 | I7: An 3, Luna 03
A8: =SUM(A7,1) -> 7 | B8: 1 | C8: Asistenţă Tehnică din partea proiectantului pentru Proiectul "Modernizarea spaţiilor publice urbane din cartierul de vest al orasului Buhuşi" COD SMIS 12384 | D8: Servicii | E8: 63700 | F8: Cerere de Oferte | G8: 71356200-0 Servicii de asistenta tehnica | H8: An 3, Luna 03 | I8: An 3, Luna 03
A9: =SUM(A8,1) -> 8 | B9: 3 | C9: Asistenţă Tehnică din partea proiectantului pentru Proiectul "Reabilitarea, modernizarea infrastructurii sociale din cartierul de vest al oraşului Buhuşi" COD SMIS 12386 | D9: Servicii | E9: 10233 | F9: Cerere de Oferte | G9: 71356200-0 Servicii de asistenta tehnica | H9: An 3, Luna 03 | I9: An 3, Luna 03
A10: =SUM(A9,1) -> 9 | B10: 2 | C10: Audit Financiar pentru Proiectul "Dezvoltarea şi modernizarea infrastructurii utilitaţilor publice urbane şi a spaţiilor verzi din cartierul de vest al oraşului Buhuşi" COD SMIS 12385 | D10: Servicii | E10: 40000 | F10: Cerere de Oferte | G10: 79212100-4 Servicii de auditare financiara | H10: An 2, Luna 12 | I10: An 2, Luna 12
A11: =SUM(A10,1) -> 10 | B11: 4 | C11: Audit Financiar pentru Proiectul "Implementarea unui sistem de supraveghere şi monitorizare video pentru creşterea siguranţei populaţiei în cartierul de vest al oraşului Buhuşi" COD SMIS 12387 | D11: Servicii | E11: 30000 | F11: Cerere de Oferte | G11: 79212100-4 Servicii de auditare financiara | H11: An 2, Luna 12 | I11: An 2, Luna 12
A12: =SUM(A11,1) -> 11 | B12: 1 | C12: Audit Financiar pentru Proiectul "Modernizarea spaţiilor publice urbane din cartierul de vest al orasului Buhuşi" COD SMIS 12384 | D12: Servicii | E12: 86200 | F12: Cerere de Oferte | G12: 79212100-4 Servicii de auditare financiara | H12: An 2, Luna 12 | I12: An 2, Luna 12
A13: =SUM(A12,1) -> 12 | B13: 3 | C13: Audit Financiar pentru Proiectul "Reabilitarea, modernizarea infrastructurii sociale din cartierul de vest al oraşului Buhuşi" COD SMIS 12386 | D13: Servicii | E13: 30000 | F13: Cerere de Oferte | G13: 79212100-4 Servicii de auditare financiara | H13: An 2, Luna 12 | I13: An 2, Luna 12
A14: =SUM(A13,1) -> 13 | B14: 4 | C14: Consultanţă şi expertiză pentru Proiectul "Implementarea unui sistem de supraveghere şi monitorizare video pentru creşterea siguranţei populaţiei în cartierul de vest al oraşului Buhuşi" COD SMIS 12387 | D14: Servicii | E14: 13070 | F14: Cerere de Oferte | H14: An 2, Luna 12 | I14: An 2, Luna 12
A15: =SUM(A14,1) -> 14 | B15: 1 | C15: Consultanţă şi Expertiză pentru Proiectul "Modernizarea spaţiilor publice urbane din cartierul de vest al orasului Buhuşi" COD SMIS 12384 | D15: Servicii | E15: 161630 | F15: Cerere de Oferte | H15: An 2, Luna 12 | I15: An 2, Luna 12
A16: =SUM(A15,1) -> 15 | B16: 2 | C16: Dotări pentru Proiectul "Dezvoltarea şi modernizarea infrastructurii utilitaţilor publice urbane şi a spaţiilor verzi din cartierul de vest al oraşului Buhuşi" COD SMIS 12385 | D16: Produse | E16: 297895 | F16: Licitaţie Deschisă | H16: An 3, Luna 01 | I16: An 3, Luna 03
A17: =SUM(A16,1) -> 16 | B17: 3 | C17: Dotări pentru Proiectul "Reabilitarea, modernizarea infrastructurii sociale din cartierul de vest al oraşului Buhuşi" COD SMIS 12386 | D17: Produse | E17: 72881 | F17: Licitaţie Deschisă | H17: An 3, Luna 01 | I17: An 3, Luna 03
A18: =SUM(A17,1) -> 17 | B18: 3 | C18: Execuţia Lucrării pentru "Proiectul Reabilitarea, modernizarea infrastructurii sociale din cartierul de vest al oraşului Buhuşi" COD SMIS 12386 | D18: Lucrări | E18: 791390.5 | F18: Licitaţie Deschisă | G18: 45000000-7 Lucrari de constructii | H18: An 3, Luna 01 | I18: An 3, Luna 03
A19: =SUM(A18,1) -> 18 | B19: 2 | C19: Execuţia Lucrării pentru Proiectul "Dezvoltarea şi modernizarea infrastructurii utilitaţilor publice urbane şi a spaţiilor verzi din cartierul de vest al oraşului Buhuşi" COD SMIS 12385 | D19: Lucrări | E19: 1403643.5 | F19: Licitaţie Deschisă | G19: 45000000-7 Lucrari de constructii | H19: An 3, Luna 01 | I19: An 3, Luna 03
A20: =SUM(A19,1) -> 19 | B20: 4 | C20: Execuţia Lucrării pentru Proiectul "Implementarea unui sistem de supraveghere şi monitorizare video pentru creşterea siguranţei populaţiei în cartierul de vest al oraşului Buhuşi" COD SMIS 12387 | D20: Lucrări | E20: 837423 | F20: Licitaţie Deschisă | G20: 32323500-8 Sistem video de supraveghere | H20: An 3, Luna 01 | I20: An 3, Luna 03
A21: =SUM(A20,1) -> 20 | B21: 1 | C21: Execuţia Lucrării pentru Proiectul "Modernizarea spaţiilor publice urbane din cartierul de vest al orasului Buhuşi" COD SMIS 12384 | D21: Lucrări | E21: 9361474.5 | F21: Licitaţie Deschisă | G21: 45000000-7 Lucrari de constructii | H21: An 3, Luna 01 | I21: An 3, Luna 03
A22: =SUM(A21,1) -> 21 | B22: 4 | C22: Promovare şi publicitate pentru Proiectul "Implementarea unui sistem de supraveghere şi monitorizare video pentru creşterea siguranţei populaţiei în cartierul de vest al oraşului Buhuşi" COD SMIS 12387 | D22: Servicii | E22: 77400 | F22: Cerere de Oferte | G22: 79341000-6 Servicii de publicitate | H22: An 2, Luna 12 | I22: An 2, Luna 12
A23: =SUM(A22,1) -> 22 | B23: 3 | C23: Promovare şi Publicitate Proiect "Reabilitarea, modernizarea infrastructurii sociale din cartierul de vest al oraşului Buhuşi" COD SMIS 12386 | D23: Servicii | E23: 77400 | F23: Cerere de Oferte | G23: 79341000-6 Servicii de publicitate | H23: An 2, Luna 12 | I23: An 2, Luna 12
A24: =SUM(A23,1) -> 23 | B24: 1 | C24: Servicii de Promovare pentru Proiectul "Modernizarea spaţiilor publice urbane din cartierul de vest al orasului Buhuşi" COD SMIS 12384 | D24: Servicii | E24: 49240 | F24: Cerere de Oferte | G24: 79341000-6 Servicii de publicitate | H24: An 2, Luna 12 | I24: An 2, Luna 12
A25: =SUM(A24,1) -> 24 | B25: 2 | C25: Servicii de promovare şi publicitate Proiectul "Dezvoltarea şi modernizarea infrastructurii utilitaţilor publice urbane şi a spaţiilor verzi din cartierul de vest al oraşului Buhuşi" COD SMIS12385" | D25: Servicii | E25: 77400 | F25: Cerere de Oferte | G25: 79341000-6 Servicii de publicitate | H25: An 2, Luna 12 | I25: An 2, Luna 12

Sheet Sheet1 (3)
A1: Nr. crt. | B1: Obiectul contractului/ Acordului-cadru | C1: Valoare Totală | D1: Nerambursabil | E1: Buget Local
A2: =SUM(A1,1) -> 1 | B2: Modernizarea spaţiilor publice urbane din cartierul de vest al orasului Buhuşi | C2: 12815304 | D2: 9997442.6 | E2: 2817861.2
A3: =SUM(A2,1) -> 2 | B3: Dezvoltarea şi modernizarea infrastructurii utilitaţilor publice urbane şi a spaţiilor verzi din cartierul de vest al oraşului Buhuşi | C3: 2515947 | D3: 1716618 | E3: 799329.04
A4: =SUM(A3,1) -> 3 | B4: Reabilitarea, modernizarea infrastructurii sociale din cartierul de vest al oraşului Buhuşi | C4: 1312296.2 | D4: 879330.53 | E4: 432965.71
A5: =SUM(A4,1) -> 4 | B5: Implementarea unui sistem de supravechere şi monitorizare video pentru creşterea siguranţei populaţiei în cartierul de vest al oraşului Buhuşi | C5: 1259276.7 | D5: 984052.3 | E5: 275224.38
B6: LEI | C6: =SUM(C2:C5) -> 17902824 | D6: =SUM(D2:D5) -> 13577443 | E6: =SUM(E2:E5) -> 4325380.3
B7: EURO | C7: =PRODUCT(C6,1/4.3011) -> 4162382.6 | D7: =PRODUCT(D6,1/4.3011) -> 3156737.4 | E7: =PRODUCT(E6,1/4.3011) -> 1005645.1 | I7: 40952
I8: 40983
I9: =SUM(I8,-I7) -> 31

Sheet Lucru
A1: Nr. crt. | B1: Obiectul contractului/ Acordului-cadru | C1: Cod CPV | D1: Procedura aplicată
B2: Promovare pentru Proiectul "Modernizarea spaţiilor publice urbane din cartierul de vest al orasului Buhuşi" COD SMIS 12384 | C2: 31523200-0 Panouri cu mesaje permanente | D2: =Incadrare!H10 -> Cerere de Oferte
A3: =SUM(A1,1) -> 1 | B3: Promovare pentru Proiectul "Implementarea unui sistem de supraveghere şi monitorizare video pentru creşterea siguranţei populaţiei în cartierul de vest al oraşului Buhuşi" COD SMIS 12387 | C3: 31523200-0 Panouri cu mesaje permanente | D3: =Incadrare!H18 -> Cerere de Oferte
B4: Promovare pentru Proiectul "Reabilitarea, modernizarea infrastructurii sociale din cartierul de vest al oraşului Buhuşi" COD SMIS 12386 | C4: 31523200-0 Panouri cu mesaje permanente | D4: =Incadrare!H19 -> Cerere de Oferte
A5: =SUM(A3,1) -> 2 | B5: Promovare pentru Proiectul "Dezvoltarea şi modernizarea infrastructurii utilitaţilor publice urbane şi a spaţiilor verzi din cartierul de vest al oraşului Buhuşi" COD SMIS 12385 | C5: 31523200-0 Panouri cu mesaje permanente | D5: =Incadrare!H20 -> Cerere de Oferte
B6: Execuţia Lucrărilor pentru Proiectul "Implementarea unui sistem de supraveghere şi monitorizare video pentru creşterea siguranţei populaţiei în cartierul de vest al oraşului Buhuşi" COD SMIS 12387 | C6: 32323500-8 Sistem video de supraveghere | D6: Licitaţie Deschisă
A7: =SUM(A5,1) -> 3 | B7: Dotări pentru Proiectul "Reabilitarea, modernizarea infrastructurii sociale din cartierul de vest al oraşului Buhuşi" COD SMIS 12386 | C7: 33100000-1 Echipamente medicale | D7: Licitaţie Deschisă
B8: Dotări pentru Proiectul "Dezvoltarea şi modernizarea infrastructurii utilitaţilor publice urbane şi a spaţiilor verzi din cartierul de vest al oraşului Buhuşi" COD SMIS 12385 | C8: 34928400-2 Mobilier urban | D8: Licitaţie Deschisă
A9: =SUM(A7,1) -> 4 | B9: Execuţia Lucrărilor pentru Proiectul "Reabilitarea, modernizarea infrastructurii sociale din cartierul de vest al oraşului Buhuşi" COD SMIS 12386 | C9: 45000000-7 Lucrari de constructii | D9: Licitaţie Deschisă
B10: Execuţia Lucrărilor pentru Proiectul "Dezvoltarea şi modernizarea infrastructurii utilitaţilor publice urbane şi a spaţiilor verzi din cartierul de vest al oraşului Buhuşi" COD SMIS 12385 | C10: 45000000-7 Lucrari de constructii | D10: Licitaţie Deschisă
A11: =SUM(A9,1) -> 5 | B11: Execuţia Lucrărilor pentru Proiectul "Modernizarea spaţiilor publice urbane din cartierul de vest al orasului Buhuşi" COD SMIS 12384 | C11: 45000000-7 Lucrari de constructii | D11: Licitaţie Deschisă
B12: Asistenţă Tehnică din partea proiectantului pentru Proiectul "Dezvoltarea şi modernizarea infrastructurii utilitaţilor publice urbane şi a spaţiilor verzi din cartierul de vest al oraşului Buhuşi" COD SMIS 12385 | C12: 71356200-0 Servicii de asistenta tehnica | D12: =Incadrare!H2 -> Achiziţie Directă
A13: =SUM(A11,1) -> 6 | B13: Asistenţă Tehnică din partea proiectantului pentru Proiectul "Implementarea unui sistem de supraveghere şi monitorizare video pentru creşterea siguranţei populaţiei în cartierul de vest al oraşului Buhuşi" COD SMIS 12387 | C13: 71356200-0 Servicii de asistenta tehnica | D13: =Incadrare!H3 -> Achiziţie Directă
B14: Asistenţă Tehnică din partea proiectantului pentru Proiectul "Modernizarea spaţiilor publice urbane din cartierul de vest al orasului Buhuşi" COD SMIS 12384 | C14: 71356200-0 Servicii de asistenta tehnica | D14: =Incadrare!H4 -> Achiziţie Directă
A15: =SUM(A13,1) -> 7 | B15: Asistenţă Tehnică din partea proiectantului pentru Proiectul "Reabilitarea, modernizarea infrastructurii sociale din cartierul de vest al oraşului Buhuşi" COD SMIS 12386 | C15: 71356200-0 Servicii de asistenta tehnica | D15: =Incadrare!H5 -> Achiziţie Directă
B16: Asistenţă Tehnică din partea diriginţilor de şantier pentru Proiectul "Dezvoltarea şi modernizarea infrastructurii utilitaţilor publice urbane şi a spaţiilor verzi din cartierul de vest al oraşului Buhuşi" COD SMIS 12385 | C16: 71520000-9 - Servicii de supraveghere a lucrarilor | D16: =Incadrare!#REF! -> #REF!
A17: =SUM(A15,1) -> 8 | B17: Asistenţă Tehnică din partea diriginţilor de şantier pentru Proiectul "Reabilitarea, modernizarea infrastructurii sociale din cartierul de vest al oraşului Buhuşi" COD SMIS 12386 | C17: 71520000-9 - Servicii de supraveghere a lucrarilor | D17: =Incadrare!#REF! -> #REF!
B18: Asistenţă Tehnică din partea diriginţilor de şantier pentru Proiectul "Implementarea unui sistem de supraveghere şi monitorizare video pentru creşterea siguranţei populaţiei în cartierul de vest al oraşului Buhuşi" COD SMIS 12387 | C18: 71520000-9 - Servicii de supraveghere a lucrarilor | D18: =Incadrare!#REF! -> #REF!
A19: =SUM(A17,1) -> 9 | B19: Asistenţă Tehnică din partea diriginţilor de şantier pentru Proiectul "Modernizarea spaţiilor publice urbane din cartierul de vest al orasului Buhuşi" COD SMIS 12384 | C19: 71520000-9 - Servicii de supraveghere a lucrarilor | D19: =Incadrare!#REF! -> #REF!
B20: Audit Financiar pentru Proiectul "Dezvoltarea şi modernizarea infrastructurii utilitaţilor publice urbane şi a spaţiilor verzi din cartierul de vest al oraşului Buhuşi" COD SMIS 12385 | C20: 79212100-4 Servicii de auditare financiara | D20: =Incadrare!H6 -> Achiziţie Directă
A21: =SUM(A19,1) -> 10 | B21: Audit Financiar pentru Proiectul "Implementarea unui sistem de supraveghere şi monitorizare video pentru creşterea siguranţei populaţiei în cartierul de vest al oraşului Buhuşi" COD SMIS 12387 | C21: 79212100-4 Servicii de auditare financiara | D21: =Incadrare!H7 -> Achiziţie Directă
B22: Audit Financiar pentru Proiectul "Reabilitarea, modernizarea infrastructurii sociale din cartierul de vest al oraşului Buhuşi" COD SMIS 12386 | C22: 79212100-4 Servicii de auditare financiara | D22: =Incadrare!H8 -> Achiziţie Directă
A23: =SUM(A21,1) -> 11 | B23: Audit Financiar pentru Proiectul "Modernizarea spaţiilor publice urbane din cartierul de vest al orasului Buhuşi" COD SMIS 12384 | C23: 79212100-4 Servicii de auditare financiara | D23: =Incadrare!#REF! -> #REF!
B24: Consultanţă pentru Managementul de Proiect aferent Proiectului "Implementarea unui sistem de supraveghere şi monitorizare video pentru creşterea siguranţei populaţiei în cartierul de vest al oraşului Buhuşi" COD SMIS 12387 | C24: 79411000-8 Servicii generale de consultanta în management | D24: =Incadrare!H9 -> Achiziţie Directă
A25: =SUM(A23,1) -> 12 | B25: Consultanţă pentru Managementul de Proiect aferent Proiectului "Modernizarea spaţiilor publice urbane din cartierul de vest al orasului Buhuşi" COD SMIS 12384 | C25: 79411000-8 Servicii generale de consultanta în management | D25: =Incadrare!H11 -> Cerere de Oferte

Sheet Foaie1
B1: U.A.T. ORASUL BUHUSI
